BEGIN:VCALENDAR
VERSION:2.0
PRODID:-//Teatteri Siperia - ECPv6.15.20//NONSGML v1.0//EN
CALSCALE:GREGORIAN
METHOD:PUBLISH
X-WR-CALNAME:Teatteri Siperia
X-ORIGINAL-URL:https://teatterisiperia.net
X-WR-CALDESC:Tapahtumat Teatteri Siperia
REFRESH-INTERVAL;VALUE=DURATION:PT1H
X-Robots-Tag:noindex
X-PUBLISHED-TTL:PT1H
BEGIN:VTIMEZONE
TZID:Europe/Helsinki
BEGIN:DAYLIGHT
TZOFFSETFROM:+0200
TZOFFSETTO:+0300
TZNAME:EEST
DTSTART:20230326T010000
END:DAYLIGHT
BEGIN:STANDARD
TZOFFSETFROM:+0300
TZOFFSETTO:+0200
TZNAME:EET
DTSTART:20231029T010000
END:STANDARD
BEGIN:DAYLIGHT
TZOFFSETFROM:+0200
TZOFFSETTO:+0300
TZNAME:EEST
DTSTART:20240331T010000
END:DAYLIGHT
BEGIN:STANDARD
TZOFFSETFROM:+0300
TZOFFSETTO:+0200
TZNAME:EET
DTSTART:20241027T010000
END:STANDARD
BEGIN:DAYLIGHT
TZOFFSETFROM:+0200
TZOFFSETTO:+0300
TZNAME:EEST
DTSTART:20250330T010000
END:DAYLIGHT
BEGIN:STANDARD
TZOFFSETFROM:+0300
TZOFFSETTO:+0200
TZNAME:EET
DTSTART:20251026T010000
END:STANDARD
END:VTIMEZONE
BEGIN:VEVENT
DTSTART;TZID=Europe/Helsinki:20240312T190000
DTEND;TZID=Europe/Helsinki:20240312T213000
DTSTAMP:20260419T215902
CREATED:20240214T125641Z
LAST-MODIFIED:20240214T125641Z
UID:4139-1710270000-1710279000@teatterisiperia.net
SUMMARY:Valkoinen Perkele
DESCRIPTION:Kevään 2024 pääteos! Esitykset KokoTeatterissa 21.2.-2.4. \nMiten pitkälle sinä olisit valmis menemään? \nNäytelmä käsittelee ihmismielen nurjan puolen ulottuvuuksia ja sitä\, miten helposti yksilö horjahtaa pimeämmälle puolelle\, kun manipulaatio\, olosuhde tai puhdas sattuma ajaa hänet siihen pisteeseen. Tarinassa neljä opiskelijaa aloittaa yliopiston kurssitehtävänä kokeen siitä\, miten herkästi ihmisen saa manipuloitua tekemään toiselle pahaa. Leikkimielinen tehtävä ajautuu erilaisten sattumien kautta liian pitkälle.
URL:https://teatterisiperia.net/tapahtuma/valkoinen-perkele-9/
LOCATION:KokoTeatteri\, Hämeentie 3\, Helsinki\, 00530
CATEGORIES:Leikin loppu
END:VEVENT
END:VCALENDAR